BEGIN:VCALENDAR
VERSION:2.0
PRODID:SchoolNow
CALSCALE:GREGORIAN
BEGIN:VEVENT
UID:f7191ef2-2d6b-11ee-8f5e-0a98f260fbcb
DTSTAMP:20240412T202442Z
SUMMARY:CDD Board Meeting - Apr. 2024
LOCATION:12788 Meritage Blvd. Jacksonville\, FL 32246
URL;VALUE=URI:https://www.beachcdd.com/calendar/4529390/cdd-board-meeting-a
 pr-2024
DTSTART:20240415T220000Z
DTEND:20240416T000000Z
ATTACH;FILENAME=2024-04-15 Revised Agenda Package.pdf;FMTTYPE=application/p
 df:https://campussuite-storage.s3.amazonaws.com/prod/1559120/574e1f70-bfe0
 -11ec-81cc-0e16e015cf15/2770070/9e949494-f90a-11ee-932e-0affd4593cc1/file/
 2024-04-15 Revised Agenda Package.pdf
END:VEVENT
END:VCALENDAR
