BEGIN:VCALENDAR
VERSION:2.0
PRODID:SchoolNow
CALSCALE:GREGORIAN
BEGIN:VEVENT
UID:cc749e7c-3da5-11f1-a6d4-0a58a9feac02
DTSTAMP:20260421T171618Z
SUMMARY:CDD Workshop - May 2026
LOCATION:12788 Meritage Blvd. Jacksonville\, FL 32246
URL;VALUE=URI:https://www.beachcdd.com/calendar/9009652/cdd-workshop-may-20
 26
DTSTART:20260506T220000Z
DTEND:20260506T230000Z
END:VEVENT
END:VCALENDAR
